BEGIN:VCALENDAR
VERSION:2.0
PRODID:-//RISC-V International - ECPv6.15.20//NONSGML v1.0//EN
CALSCALE:GREGORIAN
METHOD:PUBLISH
X-WR-CALNAME:RISC-V International
X-ORIGINAL-URL:https://riscv.org
X-WR-CALDESC:Events for RISC-V International
REFRESH-INTERVAL;VALUE=DURATION:PT1H
X-Robots-Tag:noindex
X-PUBLISHED-TTL:PT1H
BEGIN:VTIMEZONE
TZID:America/Los_Angeles
BEGIN:DAYLIGHT
TZOFFSETFROM:-0800
TZOFFSETTO:-0700
TZNAME:PDT
DTSTART:20250309T100000
END:DAYLIGHT
BEGIN:STANDARD
TZOFFSETFROM:-0700
TZOFFSETTO:-0800
TZNAME:PST
DTSTART:20251102T090000
END:STANDARD
BEGIN:DAYLIGHT
TZOFFSETFROM:-0800
TZOFFSETTO:-0700
TZNAME:PDT
DTSTART:20260308T100000
END:DAYLIGHT
BEGIN:STANDARD
TZOFFSETFROM:-0700
TZOFFSETTO:-0800
TZNAME:PST
DTSTART:20261101T090000
END:STANDARD
BEGIN:DAYLIGHT
TZOFFSETFROM:-0800
TZOFFSETTO:-0700
TZNAME:PDT
DTSTART:20270314T100000
END:DAYLIGHT
BEGIN:STANDARD
TZOFFSETFROM:-0700
TZOFFSETTO:-0800
TZNAME:PST
DTSTART:20271107T090000
END:STANDARD
END:VTIMEZONE
BEGIN:VEVENT
DTSTART;TZID=America/Los_Angeles:20260421T090000
DTEND;TZID=America/Los_Angeles:20260421T170000
DTSTAMP:20260421T025053
CREATED:20260213T165659Z
LAST-MODIFIED:20260213T165659Z
UID:10002258-1776762000-1776790800@riscv.org
SUMMARY:RISC-V Now! by Andes  |  Silicon Valley
DESCRIPTION:RISC-V Now! is the conference focused on turning RISC-V standards into products that ship — where spec goes to scale. \nBuilt for Practitioners\nRISC-V Now! addresses the realities of moving from evaluation to production:\n• System-level trade-offs in shipping AI and compute platforms\n• CPU and SoC strategy under power\, cost\, and scaling constraints\n• Software enablement challenges encountered in real deployments\n• Lessons learned—what worked\, what didn’t\, and what teams wish they had known earlier \nIt brings together customers\, ecosystem partners\, and teams evaluating RISC-V for silicon\, software\, and system integration to share real-world experience deploying RISC-V at commercial scale. \nFrom AI and automotive to datacenter and IoT\, RISC-V Now! goes beyond standards discussions to address the realities of execution: architecture decisions\, software enablement\, system integration\, and business outcomes. \nGood food\, good company\, real deployment talk.\nRegister Now!
URL:https://riscv.org/event/risc-v-now-by-andes-silicon-valley/
LOCATION:DoubleTree by Hilton Hotel San Jose\, San Jose\, CA\, USA\, 2050 Gateway Place\, San Jose\, CA\, 95110\, United States
CATEGORIES:Industry Events
ATTACH;FMTTYPE=image/png:https://riscv.org/wp-content/uploads/2026/02/RISC-V-Now-_No_TM.png
ORGANIZER;CN="Andes Technology Corp.":MAILTO:america@andestech.com
END:VEVENT
END:VCALENDAR